BEGIN:VCALENDAR
VERSION:2.0
PRODID:-//SNRD Africa - ECPv6.15.17.1//NONSGML v1.0//EN
CALSCALE:GREGORIAN
METHOD:PUBLISH
X-ORIGINAL-URL:https://www.snrd-africa.net
X-WR-CALDESC:Évènements pour SNRD Africa
REFRESH-INTERVAL;VALUE=DURATION:PT1H
X-Robots-Tag:noindex
X-PUBLISHED-TTL:PT1H
BEGIN:VTIMEZONE
TZID:Europe/Berlin
BEGIN:DAYLIGHT
TZOFFSETFROM:+0100
TZOFFSETTO:+0200
TZNAME:CEST
DTSTART:20160327T010000
END:DAYLIGHT
BEGIN:STANDARD
TZOFFSETFROM:+0200
TZOFFSETTO:+0100
TZNAME:CET
DTSTART:20161030T010000
END:STANDARD
BEGIN:DAYLIGHT
TZOFFSETFROM:+0100
TZOFFSETTO:+0200
TZNAME:CEST
DTSTART:20170326T010000
END:DAYLIGHT
BEGIN:STANDARD
TZOFFSETFROM:+0200
TZOFFSETTO:+0100
TZNAME:CET
DTSTART:20171029T010000
END:STANDARD
BEGIN:DAYLIGHT
TZOFFSETFROM:+0100
TZOFFSETTO:+0200
TZNAME:CEST
DTSTART:20180325T010000
END:DAYLIGHT
BEGIN:STANDARD
TZOFFSETFROM:+0200
TZOFFSETTO:+0100
TZNAME:CET
DTSTART:20181028T010000
END:STANDARD
BEGIN:DAYLIGHT
TZOFFSETFROM:+0100
TZOFFSETTO:+0200
TZNAME:CEST
DTSTART:20190331T010000
END:DAYLIGHT
BEGIN:STANDARD
TZOFFSETFROM:+0200
TZOFFSETTO:+0100
TZNAME:CET
DTSTART:20191027T010000
END:STANDARD
END:VTIMEZONE
BEGIN:VTIMEZONE
TZID:Europe/Helsinki
BEGIN:DAYLIGHT
TZOFFSETFROM:+0200
TZOFFSETTO:+0300
TZNAME:EEST
DTSTART:20170326T010000
END:DAYLIGHT
BEGIN:STANDARD
TZOFFSETFROM:+0300
TZOFFSETTO:+0200
TZNAME:EET
DTSTART:20171029T010000
END:STANDARD
BEGIN:DAYLIGHT
TZOFFSETFROM:+0200
TZOFFSETTO:+0300
TZNAME:EEST
DTSTART:20180325T010000
END:DAYLIGHT
BEGIN:STANDARD
TZOFFSETFROM:+0300
TZOFFSETTO:+0200
TZNAME:EET
DTSTART:20181028T010000
END:STANDARD
BEGIN:DAYLIGHT
TZOFFSETFROM:+0200
TZOFFSETTO:+0300
TZNAME:EEST
DTSTART:20190331T010000
END:DAYLIGHT
BEGIN:STANDARD
TZOFFSETFROM:+0300
TZOFFSETTO:+0200
TZNAME:EET
DTSTART:20191027T010000
END:STANDARD
END:VTIMEZONE
BEGIN:VTIMEZONE
TZID:America/New_York
BEGIN:DAYLIGHT
TZOFFSETFROM:-0500
TZOFFSETTO:-0400
TZNAME:EDT
DTSTART:20170312T070000
END:DAYLIGHT
BEGIN:STANDARD
TZOFFSETFROM:-0400
TZOFFSETTO:-0500
TZNAME:EST
DTSTART:20171105T060000
END:STANDARD
BEGIN:DAYLIGHT
TZOFFSETFROM:-0500
TZOFFSETTO:-0400
TZNAME:EDT
DTSTART:20180311T070000
END:DAYLIGHT
BEGIN:STANDARD
TZOFFSETFROM:-0400
TZOFFSETTO:-0500
TZNAME:EST
DTSTART:20181104T060000
END:STANDARD
BEGIN:DAYLIGHT
TZOFFSETFROM:-0500
TZOFFSETTO:-0400
TZNAME:EDT
DTSTART:20190310T070000
END:DAYLIGHT
BEGIN:STANDARD
TZOFFSETFROM:-0400
TZOFFSETTO:-0500
TZNAME:EST
DTSTART:20191103T060000
END:STANDARD
END:VTIMEZONE
BEGIN:VTIMEZONE
TZID:Asia/Manila
BEGIN:STANDARD
TZOFFSETFROM:+0800
TZOFFSETTO:+0800
TZNAME:PST
DTSTART:20160101T000000
END:STANDARD
END:VTIMEZONE
BEGIN:VTIMEZONE
TZID:Europe/London
BEGIN:DAYLIGHT
TZOFFSETFROM:+0000
TZOFFSETTO:+0100
TZNAME:BST
DTSTART:20160327T010000
END:DAYLIGHT
BEGIN:STANDARD
TZOFFSETFROM:+0100
TZOFFSETTO:+0000
TZNAME:GMT
DTSTART:20161030T010000
END:STANDARD
BEGIN:DAYLIGHT
TZOFFSETFROM:+0000
TZOFFSETTO:+0100
TZNAME:BST
DTSTART:20170326T010000
END:DAYLIGHT
BEGIN:STANDARD
TZOFFSETFROM:+0100
TZOFFSETTO:+0000
TZNAME:GMT
DTSTART:20171029T010000
END:STANDARD
BEGIN:DAYLIGHT
TZOFFSETFROM:+0000
TZOFFSETTO:+0100
TZNAME:BST
DTSTART:20180325T010000
END:DAYLIGHT
BEGIN:STANDARD
TZOFFSETFROM:+0100
TZOFFSETTO:+0000
TZNAME:GMT
DTSTART:20181028T010000
END:STANDARD
END:VTIMEZONE
BEGIN:VEVENT
DTSTART;TZID=Europe/Berlin:20180309T120000
DTEND;TZID=Europe/Berlin:20180309T130000
DTSTAMP:20260421T111652
CREATED:20180212T153806Z
LAST-MODIFIED:20180306T112222Z
UID:10000066-1520596800-1520600400@www.snrd-africa.net
SUMMARY:Webinar on Local Land Use Planning & Climate Change Adaptation Mainstreaming
DESCRIPTION:Local Landuse Planning & Climate Change Adaptation Mainstreaming\nWebinar\nThe webinar will explore experiences of countries with mainstreaming adaptation to climate change on the local level. \nAfter a short expert input\, GIZ colleagues from Burundi and Mali will share their countries’ experiences. Subsequently\, there will be time for questions and further exchange. \nSpeakers\n\nTill Below\, GIZ head offices (FMB)\nLéonie Niyonkuru\, Reducing the impact of climate change on the availability of water and land resources (ACCES) project\, Burundi\nAbdramane Diarra\, Innovative development planning for adaptation to climate change project\, Mali\n\nFacilitation language\nThe webinar will be conducted in FRENCH! \nDial-in details\nRespective invitations with webinar registration links will be sent separately in due time \nContact\nAnja.Endres@giz.de
URL:https://www.snrd-africa.net/event/webinar-on-local-land-use-planning-climate-change-adaptation-mainstreaming/
CATEGORIES:Entraînement
ATTACH;FMTTYPE=image/jpeg:https://www.snrd-africa.net/wp-content/uploads/2018/02/Local-land.jpg
ORGANIZER;CN="SNRD Africa Working Group Climate change%2C Livelihoods and Natural Resource Management":MAILTO:anja.endres@giz.de
END:VEVENT
BEGIN:VEVENT
DTSTART;TZID=Europe/Helsinki:20180228T150000
DTEND;TZID=Europe/Helsinki:20180228T160000
DTSTAMP:20260421T111652
CREATED:20180215T144231Z
LAST-MODIFIED:20180216T153220Z
UID:10000054-1519830000-1519833600@www.snrd-africa.net
SUMMARY:Bridging the Digital Gender Gap – ICT4Ag Working Group Webinar
DESCRIPTION:ICTs Can Empower Rural Women in Your Agricultural Project – Learn How!\nWe’re all aware of the tremendous opportunities that ICTs offer to agriculture. In the reality of our agricultural projects\, however\, we witness that technology-driven advances are rather incremental and the benefits are often reaped unequally. Especially in terms of gender\, there’s clearly a huge gap when it comes to access to ICTs and using them in rural areas. \nThis is agonizing. Digitally illiterate female farmers could certainly benefit greatly from agricultural projects providing them with interfaces that are adapted so that they can use them – as long as it’s culturally appropriate. \n\nGlobally\, women use the internet 12% less than men. In Africa\, it’s 25%. While the gender gap has narrowed in most regions since 2013\, it has widened in Africa!\n(International Telecommunication Union) \n\nWhat will be your takeaway?\nFranziska Kreische of the research institute betterplace lab has gained substantial experience while working with development projects in Uganda. In the webinar\, she’ll speak about how rural women can be enabled and encouraged to use ICT components. \nThere’re many lessons to be learned\, applicable to other projects. In particular\, Franziska will present Briding the Digital Gender Gap\, a new survey of betterplace\, and we will also hear about Women Plant Doctors 2.0 – a GIZ project in Tunisia with a tight focus on empowering women. \nIs this relevant to you?\nThis webinar is designed for project staff and decision makers in agricultural projects who want to crank up women’s involvement – who are considering to develop new ICT components or wish to prop up already existing ones. \nYou already have tons of questions that you would like to ask Franziska Kreische?\nKindly send your questions to julia.bayer@giz.de prior to the webinar. We’ll make sure that Franziska covers your points in her presentation\, or we’ll get to them during the Q&A part of the session! \nHow to join\nThe webinar is conducted online via Skype4Buisness. Contact the organisers to receive the logins. \nPlease feel free to forward the invite to others.
URL:https://www.snrd-africa.net/event/bridging-the-digital-gender-gap-snrd-africa-webinar/
CATEGORIES:Entraînement
ATTACH;FMTTYPE=image/jpeg:https://www.snrd-africa.net/wp-content/uploads/2018/02/JBO_MWI15_05462-e1528452417903.jpg
ORGANIZER;CN="ICT4Ag Community of Practice of SNRD Africa":MAILTO:daria.hasse@giz.de
END:VEVENT
BEGIN:VEVENT
DTSTART;TZID=Europe/Berlin:20180227T150000
DTEND;TZID=Europe/Berlin:20180227T163000
DTSTAMP:20260421T111652
CREATED:20180223T110855Z
LAST-MODIFIED:20180223T120922Z
UID:10000046-1519743600-1519749000@www.snrd-africa.net
SUMMARY:Smart Investments\, Big Returns: How Understanding Financial Data Can Transform Nutrition
DESCRIPTION:Learning from country experiences collecting and using budget data to improve their nutrition programs\nCurrent estimates suggest that current funding is not sufficient to address malnutrition. Part of the difficulty in securing the funding needed to tackle malnutrition is a lack of how much funding has already been allocated to nutrition and how much and where the funding gaps are. \nA number of countries have embarked on nutrition budget analysis exercises\, designed to identify available funding\, highlight existing gaps in funding\, and advocate for smarter investments in nutrition. Nearly 20 countries have completed this work\, often through a framework provided by the Scaling Up Nutrition Movement. SPRING’s interviews with representatives from 11 of these countries illustrated the complexities inherent in sharing these findings and the potential benefits from collecting and sharing data on a topic that is known best for the lack of information available. \nJoin SPRING for a webinar to learn more about the ways in which countries have used findings from nutrition budget analysis activities to identify and coordinate nutrition across sectors\, advocate for increased funding for nutrition\, and manage the use of nutrition funds. In this webinar\, we will hear directly from country practitioners about their experiences\, including their activities\, tools\, briefs\, and graphs used. \nSpeakers\n\nGwyneth Cotes | SPRING\, Director of Global Initiatives\nJovita Sandaite | Action Against Hunger (ACF) of Sierra Leone\, Advocacy Expert\nHugh Bagnall-Oakeley | Save the Children\, Senior Hunger Policy Adviser\n\nMore information\n\nNutrition Budgeting and Financial Analysis — USAID site\nBUDGET ANALYSIS FOR NUTRITION:  A guidance note for countries — by the Scaling Up Nutrition (SUN) Movement\nTracking nutrition investments\, How much do governments invest in nutrition? – SUN site\n\nRegistration\nRegister online here. \nThe notification was provided by the FSNR working group!
URL:https://www.snrd-africa.net/event/smart-investments-big-returns-how-understanding-financial-data-can-transform-nutrition/
LOCATION:Online event
CATEGORIES:Entraînement
ATTACH;FMTTYPE=image/png:https://www.snrd-africa.net/wp-content/uploads/2018/02/accountlogo.accountlogo-1.png
END:VEVENT
BEGIN:VEVENT
DTSTART;TZID=Europe/Berlin:20180226T150000
DTEND;TZID=Europe/Berlin:20180226T163000
DTSTAMP:20260421T111652
CREATED:20180207T134442Z
LAST-MODIFIED:20180219T112323Z
UID:10000073-1519657200-1519662600@www.snrd-africa.net
SUMMARY:Webinar by the CGIAR Research Program on Agriculture for Nutrition and Health A4NH
DESCRIPTION:CGIAR Research Program on Agriculture for Nutrition and Health A4NH\nWebinar with the FSNR working group\nThe FSNR working group cordially invite GIZ and SNRD members to a webinar conducted by the CGIAR Research Program on Agriculture for Nutrition and Health or A4NH. \nA4NH is led by the International Food Policy Research Institute (IFPRI) and helps realize the potential of agricultural development to deliver gender-equitable health and nutritional benefits to the poor. It was created to help ensure that agricultural practices\, interventions\, and policies will maximize health and nutrition benefits while reducing health risks. \nIn its first phase (2012-16)\, A4NH identified which agriculture and food interventions would improve nutrition and health. These studies were crucial to fill the evidence gap A4NH was designed to address. \nThe webinar will describe A4NH-generated evidence on large-scale nutrition-sensitive development programs\, and how knowledge\, evidence\, methods\, and tools can support scaling up and accelerating nutrition and health impacts in EC programs. \nOutline\n\nBrief Overview of A4NH (John McDermott) (10 minutes)\nPresentation: Improving nutrition through agriculture – what have we learned. What’s next? (40 minutes)\n\nWhat have we learned? (Marie Ruel)\n\nPathways from agriculture to nutrition (and critical importance of gender)\nHow do we evaluation nutrition-sensitive interventions?\nPortfolio of nutrition-sensitive agriculture evaluations\nKey findings and summary\n\n\nGender strategies for nutrition outcomes (Agnes Quisumbing)\n\n How to assess empowerment impacts on nutrition: Concepts and metrics (Womens Empowerment in Agriculture Index (WEAI) and Project-WEAI)\nReach-Benefit-Empower\nOn-going support to nutrition-sensitive agriculture projects\n\n\nHelping countries create enabling environments and capacity for nutrition (Namukolo Covic)\n\nCapacity support\nEvidence and accountability\nStories of Change\n\n\nWhat’s next (Marie Ruel)\n\nMore emphasis on implementation\nRetain focus on undernutrition but consider obesity and underweight\nAdolescent girls as an important group\nQuestions and Answers (moderated by GIZ team) (40 minutes)\n\n\n\n\n\nBackground information\nA4NH AND LARGE-SCALE NUTRITION OUTCOMES
URL:https://www.snrd-africa.net/event/webinar-by-the-cgiar-research-program-on-agriculture-for-nutrition-and-health-a4nh/
CATEGORIES:Événements
ATTACH;FMTTYPE=image/jpeg:https://www.snrd-africa.net/wp-content/uploads/2018/02/cg.jpg
ORGANIZER;CN="FSNR working group":MAILTO:ines.reinhard@giz.de
END:VEVENT
BEGIN:VEVENT
DTSTART;TZID=Europe/Berlin:20180223T110000
DTEND;TZID=Europe/Berlin:20180223T123000
DTSTAMP:20260421T111652
CREATED:20180215T155617Z
LAST-MODIFIED:20180219T111552Z
UID:10000052-1519383600-1519389000@www.snrd-africa.net
SUMMARY:Nouvel échange virtuel sur la RPF pour les pratiquants
DESCRIPTION:Nouvel échange virtuel\nsur la RPF pour les pratiquants\nDans le cadre de l’initiative AFR100 et via GIZ\, le ministère fédéral de la coopération économique et du développement (BMZ) met en œuvre les activités de la RPF dans quatre pays – Cameroun\, Éthiopie\, Madagascar et Togo. Cependant\, la RPF en tant qu’approche paysagère est également une option pour les activités dans d’autres pays. \nLors de la dernière réunion du groupe de travail du CCLNRM\, les participants à la session sur la restauration des paysages forestiers (RPF) ont décidé d’établir un échange virtuel régulier sur le thème de la RPF. Les collègues pourraient utiliser cette plate-forme pour discuter régulièrement des expériences\, des problèmes et défis dans la mise en œuvre de la RPF dans leurs pays respectifs. \nPar conséquent\, l’échange virtuel servira de plate-forme d’échange et d’apprentissage mutuel. Les collègues intéressés par ce sujet sont les bienvenus. Si vous souhaitez contribuer à cet échange ou si vous souhaitez simplement être ajouté à la liste de distribution pour le prochain appel\, veuillez contacter Anna Rother du Programme sectoriel pour la politique forestière internationale (anna.rother@giz.de). \nL’échange sera fait via Skype for Business. La première session aura lieu le 23 février 2018 à 11 heures CET (prévu en français\, mais changements possibles en fonction des besoins des participants). \nPour plus d’informations\nVeuillez contacter Christian Burren (Christian.burren@giz.de) ou Anna Rother (anna.rother@giz.de).
URL:https://www.snrd-africa.net/event/nouvel-echange-virtuel-sur-la-rpf-pour-les-pratiquants/
CATEGORIES:Événements
ATTACH;FMTTYPE=image/jpeg:https://www.snrd-africa.net/wp-content/uploads/2018/02/Togo_landscape_region-maritime-e1528452360405.jpg
ORGANIZER;CN="Programme sectoriel pour la politique foresti%C3%A8re internationale":MAILTO:anna.rother@giz.de
END:VEVENT
BEGIN:VEVENT
DTSTART;TZID=Europe/Berlin:20180223T100000
DTEND;TZID=Europe/Berlin:20180223T113000
DTSTAMP:20260421T111652
CREATED:20180213T160143Z
LAST-MODIFIED:20180216T080727Z
UID:10000058-1519380000-1519385400@www.snrd-africa.net
SUMMARY:Webinar on Nutrition in Value Chains
DESCRIPTION:Webinar\nNutrition in Value Chains\nKevina Wangai of the global program Promotion of Nutrition-sensitive Potato Value Chains in East Africa and Evi Gruber of the global program Food Security and Strengthening of Resilience will share project experiences. Alfons Eiligmann and Andreas Springer-Heinze inform on tools of the ValueLinks 2.0 Manual\, providing examples on how to integrate nutrition into value chains. \nWhat’s your takeaway?\nThe organisers want to encourage you to join the third webinar to get to know more about the complex theme on how to integrate nutrition into value chains. Remember\, you still have the possibility to state your particular interest in certain areas related to agricultural value chains and to get them covered in more detail during one of the upcoming webinars. \nHow to participate\nThe webinar is conducted via Skype4Business and the respective Lynch app. To participate contact eva.greber@giz.de \nYou already have tons of questions you would like to ask the presenters?\nPlease send your questions to Eva Maria Greber (Eva.Greber@giz.de) prior to the webinar. She’ll make sure that your points are covered during the presentations or answered during the Q&A part of the session. \nWe are looking forward to having great discussions with you! \nThe organisers\n\nKarina Brenneis (Sector Project Agricultural Trade and Value Chains)\nEberhard Krain (Planning Officer\, FMB\, and tandem partner of the SNRD WG ABIVCD)\nAndreas Springer-Heinze (Senior Planning Officer\, FMB)
URL:https://www.snrd-africa.net/event/webinar-on-nutrition-in-value-chains/
CATEGORIES:Entraînement
ATTACH;FMTTYPE=image/jpeg:https://www.snrd-africa.net/wp-content/uploads/2018/02/webinar-nutr.jpg
ORGANIZER;CN="Sector Project Agricultural Trade and Value Chains":MAILTO:Eva.Greber@giz.de
END:VEVENT
BEGIN:VEVENT
DTSTART;TZID=America/New_York:20180222T090000
DTEND;TZID=America/New_York:20180222T103000
DTSTAMP:20260421T111652
CREATED:20180206T121057Z
LAST-MODIFIED:20200910T132203Z
UID:10000078-1519290000-1519295400@www.snrd-africa.net
SUMMARY:Balancing the Systems: Making Food & Market Systems Work for Nutrition
DESCRIPTION:Balancing the Systems:\nMaking Food & Market Systems Work for Nutrition\nJoin ACDI/VOCA and its affiliate Agribusiness Systems International for a discussion on the overlaps between market and food systems approaches to development and how understanding what they have in common may improve the way both systems function. We’ll also explore macro trends in food security and urbanization’s effect on nutrition-sensitive programming.
URL:https://www.snrd-africa.net/event/balancing-the-systems-making-food-market-systems-work-for-nutrition/
CATEGORIES:Événements
ATTACH;FMTTYPE=image/png:https://www.snrd-africa.net/wp-content/uploads/2018/02/logo.png
END:VEVENT
BEGIN:VEVENT
DTSTART;VALUE=DATE:20171023
DTEND;VALUE=DATE:20171029
DTSTAMP:20260421T111652
CREATED:20170825T144708Z
LAST-MODIFIED:20170825T211317Z
UID:10000097-1508716800-1509235199@www.snrd-africa.net
SUMMARY:Convention on the Conservation of Migratory Species of Wild Animals -- CoP12
DESCRIPTION:Convention on the Conservation of Migratory Species of Wild Animals — CoP12\nTheir Future is Our Future – Sustainable Development for Wildlife & People\nThe CMS CoP will place particular emphasis on the fact that migratory animals provide vital services that satisfy people’s everyday needs – as a source of food and medicine\, as pollinators and seed dispersers\, and as a means of pest control. Migratory species can also fire our imagination with their majestic presence and beauty and inspire us with their intrepid journeys across deserts and oceans. COP12 presents an opportunity to place the cause of nature conservation centre stage in the wider debate about the future of the planet and the fate of its residents – human and animal. \nIt is the first time that a CMS CoP will be held in Asia. The actual CoP will be preceded by a high-level panel (22 October)\, which will be moderated by a leading international broadcast journalist and will involve dignitaries and celebrities including executives of international organizations and prominent goodwill ambassadors. \nOn the eve of CoP\, an award ceremony under the Migratory Species Champion Programme (Champion Night) will be held (22 October). Several governments\, organizations and companies will be recognized as Migratory Species Champions for their long-term support to initiatives that benefit migratory species. \nNote for SNRD Africa members\nThe sister network SNRD Asia reaches out to you to get an idea who will be coming or is interested in coming. If you are not going\, there is the possibility to showcase your project work with any PR materials in the GIZ booth at the event. You can contact Anusara with any questions — by 30 September.
URL:https://www.snrd-africa.net/event/convention-on-the-conservation-of-migratory-species-of-wild-animals-cop12/
LOCATION:Manila\, Manila\, Philippines
ATTACH;FMTTYPE=image/png:https://www.snrd-africa.net/wp-content/uploads/2017/08/01-COP12-Final-Logo-File-600x561px.png
GEO:14.5995124;120.9842195
END:VEVENT
BEGIN:VEVENT
DTSTART;TZID=Europe/London:20171022T080000
DTEND;TZID=Europe/London:20171022T170000
DTSTAMP:20260421T111652
CREATED:20171022T135151Z
LAST-MODIFIED:20171022T135206Z
UID:10000082-1508659200-1508691600@www.snrd-africa.net
SUMMARY:3rd International Conference on Global Food Security
DESCRIPTION:
URL:https://www.snrd-africa.net/event/3rd-international-conference-on-global-food-security/
ATTACH;FMTTYPE=image/gif:https://www.snrd-africa.net/wp-content/uploads/2017/10/Global-Food-Security-2017-1000x130.gif
END:VEVENT
BEGIN:VEVENT
DTSTART;TZID=Europe/Berlin:20170919T120000
DTEND;TZID=Europe/Berlin:20170919T140000
DTSTAMP:20260421T111652
CREATED:20170830T154415Z
LAST-MODIFIED:20170830T154415Z
UID:10000099-1505822400-1505829600@www.snrd-africa.net
SUMMARY:Guest Lecture on Strengthening Farmer Based Organizations
DESCRIPTION:
URL:https://www.snrd-africa.net/event/guest-lecture-on-strengthening-farmer-based-organizations/
ATTACH;FMTTYPE=image/jpeg:https://www.snrd-africa.net/wp-content/uploads/2017/08/FBOs.jpg
END:VEVENT
BEGIN:VEVENT
DTSTART;TZID=Europe/Berlin:20170914T150000
DTEND;TZID=Europe/Berlin:20170914T154500
DTSTAMP:20260421T111652
CREATED:20170824T093711Z
LAST-MODIFIED:20170825T211224Z
UID:10000094-1505401200-1505403900@www.snrd-africa.net
SUMMARY:How to Use Open Data for More Impact of Agriculture and Nutrition Related Projects
DESCRIPTION:How to Use Open Data for More Impact of Agriculture and Nutrition Related Projects\nWebinar\nIn this first online seminar\, the SNRD Africa’s ICT4Ag community of practice will provide a platform to discuss how your project can use open data to get more impact on the ground. The event will be geared towards the specific needs of projects operating in the area of agriculture and nutrition. \nWhat’s open data all about?\nIn the last decade\, the volume and types of freely available data have tremendously increased. There is an enormous stock of data that can benefit farmers in developing countries as well as be a great source for information to base decisions on at your work. \nRelevant to you?\nWhether you are a digital native or not\, this webinar will add value for any project staff and leads involved in agriculture or nutrition related projects who’ve been on a lookout to make adequate use of openly available data in their work. \nWhat’s in it for you?\nThe director of the Global Open Data for Agriculture and Nutrition Network (GODAN)\, André Laperrière\, will share his experiences with you\, presenting best practices of the use of open data in the agricultural sector. You will gain insights into open data used in existing agricultural projects and together with André discuss the potential of open data for your everyday work in this sector. \nWhen: Thursday\, 14 September 2017\, 15.00-15.45h (UTC+2)Where: Online\, Skype 4 BusinessPartly open invitation: The event is open to all SNRD Africa members and GIZ staff.Already having tons of question on your mind that you want to ask André Laperrière? \nPlease feel free to send them to julia.bayer@giz.de before the time. She is the Lead of the ICT4Ag Cop at SNRD Africa and will make sure that André covers your points in his presentation\, or we will get to them during the Q&A part of the session! \nWe are looking forward to having great discussions with you! It’s an exciting subject! \nThe presenter\nAndré Laperrière\, director GODAN
URL:https://www.snrd-africa.net/event/how-to-use-open-data-for-more-impact-of-agriculture-and-nutrition-related-projects/
LOCATION:Bonn\, Germany
ATTACH;FMTTYPE=image/jpeg:https://www.snrd-africa.net/wp-content/uploads/2017/08/alphotosmall.jpg
GEO:51.165691;10.451526
END:VEVENT
BEGIN:VEVENT
DTSTART;VALUE=DATE:20170807
DTEND;VALUE=DATE:20170818
DTSTAMP:20260421T111652
CREATED:20170621T131841Z
LAST-MODIFIED:20221128T154150Z
UID:10000091-1502064000-1503014399@www.snrd-africa.net
SUMMARY:5th Annual International Training on Integrated Watershed Management and Flood-based Farming Systems in ASAL Areas
DESCRIPTION:Greetings from Mekelle University! \nMekelle University is organizing the 5th round of International short course on « Integrated Watershed Management and Flood-based Farming Systems in ASAL Areas\, Horn of Africa » during August 7-17\, 2017 in Mekelle\, Ethiopia. \nDownload Flyer – FBFS Shortcourse 2017
URL:https://www.snrd-africa.net/event/5th-annual-international-training-on-integrated-watershed-management-and-flood-based-farming-systems-in-asal-areas/
CATEGORIES:Entraînement
ATTACH;FMTTYPE=image/png:https://www.snrd-africa.net/wp-content/uploads/2017/06/Bildschirmfoto-2017-06-21-um-16.23.35-1-e1528454834679.png
ORGANIZER;CN="Mekelle University":MAILTO:tesfa-alem.gebreegziabher@mu.edu.et
END:VEVENT
BEGIN:VEVENT
DTSTART;VALUE=DATE:20170502
DTEND;VALUE=DATE:20170507
DTSTAMP:20260421T111652
CREATED:20170427T180128Z
LAST-MODIFIED:20230609T132531Z
UID:10000089-1493683200-1494115199@www.snrd-africa.net
SUMMARY:SNRD Africa Conference
DESCRIPTION:Towards Implementing the Agenda 2030 – The Role of Food and Nutrition Security\, Youth Employment and Climate Action in African Rural Development\nSNRD Africa and the host programme GIZ-CAADP invite to the conference on 2–6 May 2017 in Pretoria\, South Africa \nThe objectives of the conference are: \nUnderstand current dynamics and opportunities of food security\, youth employment and climate action and their role in implementing the Agenda 2030 in rural areas in Africa\nLearn from experience with food security\, youth employment and climate action across African countries and SNRD member programmes \nBetter enshrine the topics of the special initiative “One World – No Hunger” by German Federal Ministry for Economic Cooperation and Development (BMZ) in the objectives and structure of SNRD AfricaReflect on how could SNRD Africa effectively contribute to a development-oriented imple-mentation of the Agenda 2030The conference will comprise plenary sessions\, concurrent mini-workshops on specific subtopics of the Agenda 2030 and the related roles of food security\, youth employment and climate action\, open space sessions and marketplace. One-day field trips are scheduled for Saturday 6 May as part of the post-conference programme. Therefore\, different destinations will be offered and communicated beforehand to participants. Working language of the conference will be English\, simultaneous interpretation (English-French\, French-English) provided. \nIbrahim Mayaki: African Perspectives on Youth Employment\, Food Security and Climate Actions\nKeynote address of NEPAD’s CEO at the 2017 SNRD Africa Conference in Pretoria \nFor privacy reasons YouTube needs your permission to be loaded. For more details\, please see our Privacy FR.I AcceptFor privacy reasons YouTube needs your permission to be loaded. For more details\, please see our Privacy FR.I AcceptFor privacy reasons YouTube needs your permission to be loaded. For more details\, please see our Privacy FR.I Accept
URL:https://www.snrd-africa.net/event/snrd-conference/
CATEGORIES:Événements
ATTACH;FMTTYPE=image/jpeg:https://www.snrd-africa.net/wp-content/uploads/2017/05/SNRD-Conference-01-e1528455744518.jpg
END:VEVENT
END:VCALENDAR